BEGIN:VCALENDAR
PRODID:-//AT Content Types//AT Event//EN
VERSION:2.0
METHOD:PUBLISH
BEGIN:VEVENT
DTSTAMP:20260423T053659Z
CREATED:20230622T150914Z
UID:ATEvent-5ecc5271a4c84b24ae38142fae893086
LAST-MODIFIED:20240809T142328Z
SUMMARY:Millennium Library - The Forum\, Norwich
DTSTART:20230707T090000Z
DTEND:20230707T150000Z
DESCRIPTION:What should adult social services\nlook like now and in th
 e future?\nTell us.\nJoin a discussion group and help us to shape\nthe
  adult social care strategy for Norfolk.\nNo need to book\, just turn 
 up and join\nin on the day.\n\nBethel St\, Millennium Plain\, Norwich 
 NR2 1BH
CLASS:PUBLIC
END:VEVENT
END:VCALENDAR
