BEGIN:VCALENDAR
PRODID:-//AT Content Types//AT Event//EN
VERSION:2.0
METHOD:PUBLISH
BEGIN:VEVENT
DTSTAMP:20260423T053550Z
CREATED:20230622T150914Z
UID:ATEvent-83d59951165242fe801cef95fa5b10c0
LAST-MODIFIED:20240809T142328Z
SUMMARY:Kings Lynn Library
DTSTART:20230810T090000Z
DTEND:20230810T150000Z
DESCRIPTION:What should adult social services\nlook like now and in th
 e future?\nTell us.\nJoin a discussion group and help us to shape\nthe
  adult social care strategy for Norfolk.\nNo need to book\, just turn 
 up and join\nin on the day.\n\nLondon Rd\, King's Lynn PE30 5EZ
CLASS:PUBLIC
END:VEVENT
END:VCALENDAR
