BEGIN:VCALENDAR
PRODID:-//AT Content Types//AT Event//EN
VERSION:2.0
METHOD:PUBLISH
BEGIN:VEVENT
DTSTAMP:20260423T053535Z
CREATED:20230622T150914Z
UID:ATEvent-b23ddcdd171d4462a4d2121883d1cff3
LAST-MODIFIED:20240809T142328Z
SUMMARY:Great Yarmouth Library
DTSTART:20230726T090000Z
DTEND:20230726T150000Z
DESCRIPTION:What should adult social services\nlook like now and in th
 e future?\nTell us.\nJoin a discussion group and help us to shape\nthe
  adult social care strategy for Norfolk.\nNo need to book\, just turn 
 up and join\nin on the day.\n\nTolhouse St\, Great Yarmouth NR30 2SH
CLASS:PUBLIC
END:VEVENT
END:VCALENDAR
