BEGIN:VCALENDAR
PRODID:-//AT Content Types//AT Event//EN
VERSION:2.0
METHOD:PUBLISH
BEGIN:VEVENT
DTSTAMP:20260423T053422Z
CREATED:20230622T150913Z
UID:ATEvent-2d4c0cb83b024e6aa79d797491491efb
LAST-MODIFIED:20240809T142328Z
SUMMARY:Downham Market Library
DTSTART:20230721T110000Z
DTEND:20230721T150000Z
DESCRIPTION:What should adult social services\nlook like now and in th
 e future?\nTell us.\nJoin a discussion group and help us to shape\nthe
  adult social care strategy for Norfolk.\nNo need to book\, just turn 
 up and join\nin on the day.\n\n78 Priory Rd\, Downham Market PE38 9JS
CLASS:PUBLIC
END:VEVENT
END:VCALENDAR
