BEGIN:VCALENDAR
PRODID:-//AT Content Types//AT Event//EN
VERSION:2.0
METHOD:PUBLISH
BEGIN:VEVENT
DTSTAMP:20260423T053535Z
CREATED:20230622T150914Z
UID:ATEvent-04f187d2ef084b1ba703e1795a686570
LAST-MODIFIED:20240809T142328Z
SUMMARY:Downham Market Library
DTSTART:20230707T090000Z
DTEND:20230711T140000Z
DESCRIPTION:What should adult social services\nlook like now and in th
 e future?\nTell us.\nJoin a discussion group and help us to shape\nthe
  adult social care strategy for Norfolk.\nNo need to book\, just turn 
 up and join\nin on the day.\n\n78 Priory Rd\, Downham Market PE38 9JS
CLASS:PUBLIC
END:VEVENT
END:VCALENDAR
