BEGIN:VCALENDAR
PRODID:-//AT Content Types//AT Event//EN
VERSION:2.0
METHOD:PUBLISH
BEGIN:VEVENT
DTSTAMP:20260423T053240Z
CREATED:20230622T150914Z
UID:ATEvent-1426883007ce4287b33ab33e8a119d6b
LAST-MODIFIED:20240809T142328Z
SUMMARY:Diss Library
DTSTART:20230818T090000Z
DTEND:20230818T140000Z
DESCRIPTION:What should adult social services\nlook like now and in th
 e future?\nTell us.\nJoin a discussion group and help us to shape\nthe
  adult social care strategy for Norfolk.\nNo need to book\, just turn 
 up and join\nin on the day.\n\nChurch St\, Diss IP22 4DD
CLASS:PUBLIC
END:VEVENT
END:VCALENDAR
