BEGIN:VCALENDAR
PRODID:-//AT Content Types//AT Event//EN
VERSION:2.0
METHOD:PUBLISH
BEGIN:VEVENT
DTSTAMP:20260423T053240Z
CREATED:20230622T150914Z
UID:ATEvent-13e1dea720134da5b67672960d504f88
LAST-MODIFIED:20240809T142328Z
SUMMARY:Dereham Library
DTSTART:20230719T090000Z
DTEND:20230719T130000Z
DESCRIPTION:What should adult social services\nlook like now and in th
 e future?\nTell us.\nJoin a discussion group and help us to shape\nthe
  adult social care strategy for Norfolk.\nNo need to book\, just turn 
 up and join\nin on the day.\n\n59 High St\, Dereham NR19 1DZ
CLASS:PUBLIC
END:VEVENT
END:VCALENDAR
