BEGIN:VCALENDAR
PRODID:-//AT Content Types//AT Event//EN
VERSION:2.0
METHOD:PUBLISH
BEGIN:VEVENT
DTSTAMP:20260423T053407Z
CREATED:20230622T150913Z
UID:ATEvent-4f529386d0e44d44ad4eae7521b30a91
LAST-MODIFIED:20240809T142328Z
SUMMARY:Aylsham Library
DTSTART:20230724T090000Z
DTEND:20230724T150000Z
DESCRIPTION:What should adult social services\nlook like now and in th
 e future?\nTell us.\nJoin a discussion group and help us to shape\nthe
  adult social care strategy for Norfolk.\nNo need to book\, just turn 
 up and join\nin on the day.\n\n7 Hungate St\, Aylsham\, Norwich NR11 6
 AA
CLASS:PUBLIC
END:VEVENT
END:VCALENDAR
