BEGIN:VCALENDAR
PRODID:-//AT Content Types//AT Event//EN
VERSION:2.0
METHOD:PUBLISH
BEGIN:VEVENT
DTSTAMP:20260423T053101Z
CREATED:20230706T161309Z
UID:ATEvent-406ac2ac9ac64b849957a581f3a8c22a
LAST-MODIFIED:20230721T094421Z
SUMMARY:Drop in event - Thetford Library
DTSTART:20230718T230000Z
DTEND:20230718T230000Z
DESCRIPTION:For families wanting more information or support to comple
 te the consultation. \n\nRaymond St\, Thetford IP24 2EA
CLASS:PUBLIC
END:VEVENT
END:VCALENDAR
