BEGIN:VCALENDAR
PRODID:-//AT Content Types//AT Event//EN
VERSION:2.0
METHOD:PUBLISH
BEGIN:VEVENT
DTSTAMP:20260423T064152Z
CREATED:20230706T161309Z
UID:ATEvent-b1638386557a4458bfc675f6fb3493d1
LAST-MODIFIED:20230721T094421Z
SUMMARY:Drop in event - The Millennium Library\, Norwich
DTSTART:20230721T090000Z
DTEND:20230721T120000Z
DESCRIPTION:For families wanting more information or support to comple
 te the consultation. \n\nThe Forum\, Millennium Plain\, Norwich NR2 1A
 W
CLASS:PUBLIC
END:VEVENT
END:VCALENDAR
