BEGIN:VCALENDAR
PRODID:-//AT Content Types//AT Event//EN
VERSION:2.0
METHOD:PUBLISH
BEGIN:VEVENT
DTSTAMP:20260423T064733Z
CREATED:20230706T161309Z
UID:ATEvent-9ff5fa2a29c84eaa86f67ccf22ee8aa4
LAST-MODIFIED:20230721T094421Z
SUMMARY:Drop in event- North Walsham Library
DTSTART:20230718T140000Z
DTEND:20230718T170000Z
DESCRIPTION:For families wanting more information or support to comple
 te the consultation.  \n\nNew Rd\, North Walsham NR28 9DE
CLASS:PUBLIC
END:VEVENT
END:VCALENDAR
