BEGIN:VCALENDAR
PRODID:-//AT Content Types//AT Event//EN
VERSION:2.0
METHOD:PUBLISH
BEGIN:VEVENT
DTSTAMP:20260423T053056Z
CREATED:20230706T161309Z
UID:ATEvent-dd1cd30bcad44e1fbb72278a38caa832
LAST-MODIFIED:20230721T094421Z
SUMMARY:Drop in event - King's Lynn Library
DTSTART:20230717T140000Z
DTEND:20230717T170000Z
DESCRIPTION:For families wanting more information or support to comple
 te the consultation.  \n\n London Rd\, King's Lynn PE30 5EZ
CLASS:PUBLIC
END:VEVENT
END:VCALENDAR
