BEGIN:VCALENDAR
PRODID:-//AT Content Types//AT Event//EN
VERSION:2.0
METHOD:PUBLISH
BEGIN:VEVENT
DTSTAMP:20260423T053112Z
CREATED:20230706T161309Z
UID:ATEvent-37005b2677bf4b1a94c9c678f3f2a57e
LAST-MODIFIED:20230721T094421Z
SUMMARY:Drop in event - Great Yarmouth Library
DTSTART:20230718T090000Z
DTEND:20230718T120000Z
DESCRIPTION:For families wanting more information or support to comple
 te the consultation.  \n\nTolhouse St\, Great Yarmouth NR30 2SH
CLASS:PUBLIC
END:VEVENT
END:VCALENDAR
