BEGIN:VCALENDAR
PRODID:-//AT Content Types//AT Event//EN
VERSION:2.0
METHOD:PUBLISH
BEGIN:VEVENT
DTSTAMP:20260423T053112Z
CREATED:20230706T161309Z
UID:ATEvent-5688fef0895f4e909bde67f3c174d4a2
LAST-MODIFIED:20230721T094421Z
SUMMARY:Drop in event - Fakenham Library
DTSTART:20230717T090000Z
DTEND:20230717T120000Z
DESCRIPTION:For families wanting more information or support to comple
 te the consultation.  \n\nOak St\, Fakenham NR21 9DY
CLASS:PUBLIC
END:VEVENT
END:VCALENDAR
