BEGIN:VCALENDAR
PRODID:-//AT Content Types//AT Event//EN
VERSION:2.0
METHOD:PUBLISH
BEGIN:VEVENT
DTSTAMP:20260423T052938Z
CREATED:20230706T161309Z
UID:ATEvent-7d24251985304bb5851210c11cb52150
LAST-MODIFIED:20230721T094421Z
SUMMARY:Drop in event - Diss Library
DTSTART:20230719T140000Z
DTEND:20230719T170000Z
DESCRIPTION:For families wanting more information or support to comple
 te the consultation. \n\nChurch St\, Diss IP22 4DD
CLASS:PUBLIC
END:VEVENT
END:VCALENDAR
