BEGIN:VCALENDAR
PRODID:-//AT Content Types//AT Event//EN
VERSION:2.0
METHOD:PUBLISH
BEGIN:VEVENT
DTSTAMP:20260423T052938Z
CREATED:20230706T161309Z
UID:ATEvent-890f2f0b90684eb7b153d4a4bfb27058
LAST-MODIFIED:20230721T094421Z
SUMMARY:Drop in event - Dereham Library
DTSTART:20230720T083000Z
DTEND:20230720T113000Z
DESCRIPTION:For families wanting more information or support to comple
 te the consultation. \n\n59 High St\, Dereham NR19 1DZ
CLASS:PUBLIC
END:VEVENT
END:VCALENDAR
