BEGIN:VCALENDAR
PRODID:-//AT Content Types//AT Event//EN
VERSION:2.0
METHOD:PUBLISH
BEGIN:VEVENT
DTSTAMP:20260422T223919Z
CREATED:20191115T094616Z
UID:ATEvent-15ba4c7225974c1783908f42c6e11f07
LAST-MODIFIED:20191115T094616Z
SUMMARY:Thetford Library Drop-in Event
DTSTART:20191125T110000Z
DTEND:20191125T130000Z
CLASS:PUBLIC
END:VEVENT
END:VCALENDAR
