BEGIN:VCALENDAR
PRODID:-//AT Content Types//AT Event//EN
VERSION:2.0
METHOD:PUBLISH
BEGIN:VEVENT
DTSTAMP:20260422T224108Z
CREATED:20191114T133359Z
UID:ATEvent-946ea9c5c76b4c9e8df28667ceb6b610
LAST-MODIFIED:20191115T094615Z
SUMMARY:Norwich Millennium Library Drop-in Event
DTSTART:20191128T110000Z
DTEND:20191128T130000Z
CLASS:PUBLIC
END:VEVENT
END:VCALENDAR
