BEGIN:VCALENDAR
PRODID:-//AT Content Types//AT Event//EN
VERSION:2.0
METHOD:PUBLISH
BEGIN:VEVENT
DTSTAMP:20260422T223559Z
CREATED:20191114T133359Z
UID:ATEvent-9ae70aca3b554a1fb50acf0968cd381e
LAST-MODIFIED:20191115T094616Z
SUMMARY:King's Lynn Library Drop-in Event
DTSTART:20191203T103000Z
DTEND:20191203T123000Z
CLASS:PUBLIC
END:VEVENT
END:VCALENDAR
