BEGIN:VCALENDAR
PRODID:-//AT Content Types//AT Event//EN
VERSION:2.0
METHOD:PUBLISH
BEGIN:VEVENT
DTSTAMP:20260422T223720Z
CREATED:20191114T133359Z
UID:ATEvent-7536860b57df46e3940dadb8c837e80b
LAST-MODIFIED:20191115T094616Z
SUMMARY:Great Yarmouth Library Drop-in Event
DTSTART:20191118T103000Z
DTEND:20191118T123000Z
CLASS:PUBLIC
END:VEVENT
END:VCALENDAR
