BEGIN:VCALENDAR
PRODID:-//AT Content Types//AT Event//EN
VERSION:2.0
METHOD:PUBLISH
BEGIN:VEVENT
DTSTAMP:20260421T202539Z
CREATED:20230302T141613Z
UID:ATEvent-042651dd84cd45f484c1ed5cf0a12578
LAST-MODIFIED:20230315T141246Z
SUMMARY:orfolk County Deal event: North Walsham Library (Evening Session)
DTSTART:20230308T160000Z
DTEND:20230308T180000Z
DESCRIPTION:Come along to Dereham Library on Monday 20th February to f
 ind out more about Norfolk's County Deal\, pick up paper copies of the
  consultation and speak to us about any questions or comments you have
  about the process.\n\nNorth Walsham Library\, New Rd\, North Walsham 
 NR28 9DE
CLASS:PUBLIC
END:VEVENT
END:VCALENDAR
