BEGIN:VCALENDAR
PRODID:-//AT Content Types//AT Event//EN
VERSION:2.0
METHOD:PUBLISH
BEGIN:VEVENT
DTSTAMP:20260421T202344Z
CREATED:20230208T145851Z
UID:ATEvent-d00aeb5c24a44fb4a53ff2f4a8358ee7
LAST-MODIFIED:20230315T141246Z
SUMMARY:Norfolk County Deal event: Wroxham Library (Evening Session)
DTSTART:20230310T160000Z
DTEND:20230310T180000Z
DESCRIPTION:Come along to Wroxham Library on Friday 10th March  to fin
 d out more about Norfolk's County Deal\, pick up paper copies of the c
 onsultation and speak to us about any questions or comments you have a
 bout the process.\n\nWroxham Library\, Norwich Rd\, Wroxham\, Norwich 
 NR12 8RX
CLASS:PUBLIC
END:VEVENT
END:VCALENDAR
