BEGIN:VCALENDAR
PRODID:-//AT Content Types//AT Event//EN
VERSION:2.0
METHOD:PUBLISH
BEGIN:VEVENT
DTSTAMP:20260421T202613Z
CREATED:20230208T145851Z
UID:ATEvent-55057de3d2c94bb7b1c12ecf5d362b12
LAST-MODIFIED:20230315T141246Z
SUMMARY:Norfolk County Deal event: Wroxham Library (Daytime Session)
DTSTART:20230310T103000Z
DTEND:20230310T123000Z
DESCRIPTION:Come along to Wroxham Library on Friday 10th March  to fin
 d out more about Norfolk's County Deal\, pick up paper copies of the c
 onsultation and speak to us about any questions or comments you have a
 bout the process.\n\nWroxham Library\, Norwich Rd\, Wroxham\, Norwich 
 NR12 8RX
CLASS:PUBLIC
END:VEVENT
END:VCALENDAR
