BEGIN:VCALENDAR
PRODID:-//AT Content Types//AT Event//EN
VERSION:2.0
METHOD:PUBLISH
BEGIN:VEVENT
DTSTAMP:20260421T202344Z
CREATED:20230206T155256Z
UID:ATEvent-f9fdcc64220644ff82876ccdd283edb6
LAST-MODIFIED:20230315T141246Z
SUMMARY:Norfolk County Deal event: Watton Library (Evening Session)
DTSTART:20230227T160000Z
DTEND:20230227T180000Z
DESCRIPTION:Come along to Watton Library on Monday 27th March to find 
 out more about Norfolk's County Deal\, pick up paper copies of the con
 sultation and speak to us about any questions or comments you have abo
 ut the process.\n\nWatton Library\, George Trollope Rd\, Watton\, Thet
 ford IP25
CLASS:PUBLIC
END:VEVENT
END:VCALENDAR
