BEGIN:VCALENDAR
PRODID:-//AT Content Types//AT Event//EN
VERSION:2.0
METHOD:PUBLISH
BEGIN:VEVENT
DTSTAMP:20260421T215152Z
CREATED:20230206T155256Z
UID:ATEvent-3802814e3b1145c8b2f4a57ef7d0e59f
LAST-MODIFIED:20230315T141246Z
SUMMARY:Norfolk County Deal event: Watton Library (Daytime Session)
DTSTART:20230227T100000Z
DTEND:20230227T140000Z
DESCRIPTION:Come along to Watton Library on Monday 27th March to find 
 out more about Norfolk's County Deal\, pick up paper copies of the con
 sultation and speak to us about any questions or comments you have abo
 ut the process.\n\nWatton Library\, George Trollope Rd\, Watton\, Thet
 ford IP25 6AS
CLASS:PUBLIC
END:VEVENT
END:VCALENDAR
