BEGIN:VCALENDAR
PRODID:-//AT Content Types//AT Event//EN
VERSION:2.0
METHOD:PUBLISH
BEGIN:VEVENT
DTSTAMP:20260421T203007Z
CREATED:20230206T155256Z
UID:ATEvent-2e33096ad70e43a89183e955a3208259
LAST-MODIFIED:20230315T141246Z
SUMMARY:Norfolk County Deal event: Thetford Carnegie (Daytime Session)
DTSTART:20230227T100000Z
DTEND:20230227T120000Z
DESCRIPTION:Come along to Thetford Carnegie on Monday 27th February  t
 o find out more about Norfolk's County Deal\, pick up paper copies of 
 the consultation and speak to us about any questions or comments you h
 ave about the process.\n\nThe Carnegie\, Cage Ln\, Thetford IP24 2EA
CLASS:PUBLIC
END:VEVENT
END:VCALENDAR
