BEGIN:VCALENDAR
PRODID:-//AT Content Types//AT Event//EN
VERSION:2.0
METHOD:PUBLISH
BEGIN:VEVENT
DTSTAMP:20260421T203123Z
CREATED:20230206T155257Z
UID:ATEvent-ac13c05cf3414fe7b1cd3ed4cead5235
LAST-MODIFIED:20230315T141246Z
SUMMARY:Norfolk County Deal event: Thetford Carnegie (Evening Session)
DTSTART:20230227T153000Z
DTEND:20230227T173000Z
DESCRIPTION:Come along to Thetford Carnegie on Monday 27th February  t
 o find out more about Norfolk's County Deal\, pick up paper copies of 
 the consultation and speak to us about any questions or comments you h
 ave about the process.\n\nThe Carnegie\, Cage Ln\, Thetford IP24 2EA
CLASS:PUBLIC
END:VEVENT
END:VCALENDAR
