BEGIN:VCALENDAR
PRODID:-//AT Content Types//AT Event//EN
VERSION:2.0
METHOD:PUBLISH
BEGIN:VEVENT
DTSTAMP:20260421T202824Z
CREATED:20230206T155256Z
UID:ATEvent-ecefdc05488a484a9e8aab2bc63617e0
LAST-MODIFIED:20230315T141246Z
SUMMARY:Norfolk County Deal event: The Forum\, Norwich (Evening Session)
DTSTART:20230306T160000Z
DTEND:20230306T180000Z
DESCRIPTION:Come along to The Forum\, Norwich on Monday 6th March to f
 ind out more about Norfolk's County Deal\, pick up paper copies of the
  consultation and speak to us about any questions or comments you have
  about the process.\n\nThe Forum\, Bethel St\, Millennium Plain\, Norw
 ich NR2 1BH
CLASS:PUBLIC
END:VEVENT
END:VCALENDAR
