BEGIN:VCALENDAR
PRODID:-//AT Content Types//AT Event//EN
VERSION:2.0
METHOD:PUBLISH
BEGIN:VEVENT
DTSTAMP:20260421T202824Z
CREATED:20230305T212012Z
UID:ATEvent-4d93d7d173fe422caec2ba9ea950d53c
LAST-MODIFIED:20230315T141246Z
SUMMARY:Norfolk County Deal event: The Forum\, Norwich (Daytime Session)
DTSTART:20230306T100000Z
DTEND:20230306T120000Z
DESCRIPTION:Come along to The Forum\, Norwich on Monday 6th March to f
 ind out more about Norfolk's County Deal\, pick up paper copies of the
  consultation and speak to us about any questions or comments you have
  about the process.\n\nThe Forum\, Bethel St\, Millennium Plain\, Norw
 ich NR2 1BH
CLASS:PUBLIC
END:VEVENT
END:VCALENDAR
