BEGIN:VCALENDAR
PRODID:-//AT Content Types//AT Event//EN
VERSION:2.0
METHOD:PUBLISH
BEGIN:VEVENT
DTSTAMP:20260421T215612Z
CREATED:20230206T155257Z
UID:ATEvent-2cafc7a3e77843cabbc1101080d91caa
LAST-MODIFIED:20230315T141246Z
SUMMARY:Norfolk County Deal event: The Forum\, Norwich (Evening Session)
DTSTART:20230221T160000Z
DTEND:20230221T180000Z
DESCRIPTION:Come along to The Forum\, Norwich on Tuesday 21st February
  to find out more about Norfolk's County Deal\, pick up paper copies o
 f the consultation and speak to us about any questions or comments you
  have about the process.
CLASS:PUBLIC
END:VEVENT
END:VCALENDAR
