BEGIN:VCALENDAR
PRODID:-//AT Content Types//AT Event//EN
VERSION:2.0
METHOD:PUBLISH
BEGIN:VEVENT
DTSTAMP:20260421T215234Z
CREATED:20230206T155257Z
UID:ATEvent-469b6cc5c0b14cb2bfab3f4790bfd11e
LAST-MODIFIED:20230315T141246Z
SUMMARY:Norfolk County Deal event: Swaffham Library (Daytime Session)
DTSTART:20230221T103000Z
DTEND:20230221T123000Z
DESCRIPTION:Come along to Swaffham Library on Tuesday 21st February to
  find out more about Norfolk's County Deal\, pick up paper copies of t
 he consultation and speak to us about any questions or comments you ha
 ve about the process.\n\nSwaffham Library The Pightle\, Swaffham PE37 
 7DF
CLASS:PUBLIC
END:VEVENT
END:VCALENDAR
