BEGIN:VCALENDAR
PRODID:-//AT Content Types//AT Event//EN
VERSION:2.0
METHOD:PUBLISH
BEGIN:VEVENT
DTSTAMP:20260421T214934Z
CREATED:20230206T155256Z
UID:ATEvent-36c3251eb088454091ab45f63db9dd19
LAST-MODIFIED:20230315T141246Z
SUMMARY:Norfolk County Deal event: Sprowston Library (Evening Session)
DTSTART:20230310T160000Z
DTEND:20230310T180000Z
DESCRIPTION:Come along to Sprowston Library on Friday 10th March to fi
 nd out more about Norfolk's County Deal\, pick up paper copies of the 
 consultation and speak to us about any questions or comments you have 
 about the process.\n\nSprowston Library Recreation Ground Rd\, Norwich
  NR7 8EW
CLASS:PUBLIC
END:VEVENT
END:VCALENDAR
