BEGIN:VCALENDAR
PRODID:-//AT Content Types//AT Event//EN
VERSION:2.0
METHOD:PUBLISH
BEGIN:VEVENT
DTSTAMP:20260421T202520Z
CREATED:20230206T155256Z
UID:ATEvent-6541b0569c7e461bba8c248cec00f089
LAST-MODIFIED:20230315T141246Z
SUMMARY:Norfolk County Deal event: Sprowston Library (Daytime Session)
DTSTART:20230310T100000Z
DTEND:20230310T120000Z
DESCRIPTION:Come along to Sprowston Library on Friday 10th March to fi
 nd out more about Norfolk's County Deal\, pick up paper copies of the 
 consultation and speak to us about any questions or comments you have 
 about the process.\n\nSprowston Library Recreation Ground Rd\, Norwich
  NR7 8EW
CLASS:PUBLIC
END:VEVENT
END:VCALENDAR
