BEGIN:VCALENDAR
PRODID:-//AT Content Types//AT Event//EN
VERSION:2.0
METHOD:PUBLISH
BEGIN:VEVENT
DTSTAMP:20260421T202648Z
CREATED:20230302T141613Z
UID:ATEvent-b1a8ff99dccc4bd3ac6b41ec36dcd13a
LAST-MODIFIED:20230315T141246Z
SUMMARY:Norfolk County Deal event: North Walsham Library (Day Session)
DTSTART:20230308T110000Z
DTEND:20230308T130000Z
DESCRIPTION:Come along to Dereham Library on Monday 20th February to f
 ind out more about Norfolk's County Deal\, pick up paper copies of the
  consultation and speak to us about any questions or comments you have
  about the process.\n\nNorth Walsham Library\, New Rd\, North Walsham 
 NR28 9DE
CLASS:PUBLIC
END:VEVENT
END:VCALENDAR
