BEGIN:VCALENDAR
PRODID:-//AT Content Types//AT Event//EN
VERSION:2.0
METHOD:PUBLISH
BEGIN:VEVENT
DTSTAMP:20260421T202717Z
CREATED:20230206T155256Z
UID:ATEvent-a2ff684073b442c0b7a7fd6d1ce8d574
LAST-MODIFIED:20230315T141246Z
SUMMARY:Norfolk County Deal event: King’s Lynn pop-up\, Vancouver Quarter\, Town centre (Daytime session)
DTSTART:20230217T100000Z
DTEND:20230217T140000Z
DESCRIPTION:Come along to King’s Lynn pop-up\, Vancouver\, town cent
 re on Friday 17th February to find out more about Norfolk's County Dea
 l\, pick up paper copies of the consultation and speak to us about any
  questions or comments you have about the process.\n\nVancouver Quarte
 r\, 24 Broad St\, King's Lynn PE30 1DP
CLASS:PUBLIC
END:VEVENT
END:VCALENDAR
