BEGIN:VCALENDAR
PRODID:-//AT Content Types//AT Event//EN
VERSION:2.0
METHOD:PUBLISH
BEGIN:VEVENT
DTSTAMP:20260421T203000Z
CREATED:20230206T155256Z
UID:ATEvent-c2fe90a8290b4346b7631293c53a6976
LAST-MODIFIED:20230315T141246Z
SUMMARY:Norfolk County Deal event: King’s Lynn pop-up\, Vancouver Quarter\, Town centre (Evening session)
DTSTART:20230217T153000Z
DTEND:20230217T173000Z
DESCRIPTION:Come along to King’s Lynn pop-up\, Vancouver\, town cent
 re on Friday 17th February to find out more about Norfolk's County Dea
 l\, pick up paper copies of the consultation and speak to us about any
  questions or comments you have about the process.\n\nVancouver Quarte
 r\, 24 Broad St\, King's Lynn PE30 1DP
CLASS:PUBLIC
END:VEVENT
END:VCALENDAR
