BEGIN:VCALENDAR
PRODID:-//AT Content Types//AT Event//EN
VERSION:2.0
METHOD:PUBLISH
BEGIN:VEVENT
DTSTAMP:20260421T215510Z
CREATED:20230206T155256Z
UID:ATEvent-fc22077ed89c4931a5112740d47c95de
LAST-MODIFIED:20230315T141246Z
SUMMARY:Norfolk County Deal event: Hunstanton Town Hall (Daytime Session)
DTSTART:20230301T100000Z
DTEND:20230301T140000Z
DESCRIPTION:Come along to Hunstanton Town Hall on Wednesday 1st March 
 to find out more about Norfolk's County Deal\, pick up paper copies of
  the consultation and speak to us about any questions or comments you 
 have about the process.\n\nHunstanton Town Hall The Green Hunstanton P
 E36 6BQ
CLASS:PUBLIC
END:VEVENT
END:VCALENDAR
