BEGIN:VCALENDAR
PRODID:-//AT Content Types//AT Event//EN
VERSION:2.0
METHOD:PUBLISH
BEGIN:VEVENT
DTSTAMP:20260421T215407Z
CREATED:20230206T155256Z
UID:ATEvent-f6978ae66098454ab41644c7221ee22e
LAST-MODIFIED:20230315T141246Z
SUMMARY:Norfolk County Deal event:  Great Yarmouth Library (Daytime Session)
DTSTART:20230216T100000Z
DTEND:20230216T120000Z
DESCRIPTION:Come along to Great Yarmouth Library on Thursday 16th Febr
 uary to find out more about Norfolk's County Deal\, pick up paper copi
 es of the consultation and speak to us about any questions or comments
  you have about the process.\n\nGreat Yarmouth Library Tolhouse St\, G
 reat Yarmouth NR30 2SH
CLASS:PUBLIC
END:VEVENT
END:VCALENDAR
