BEGIN:VCALENDAR
PRODID:-//AT Content Types//AT Event//EN
VERSION:2.0
METHOD:PUBLISH
BEGIN:VEVENT
DTSTAMP:20260421T202854Z
CREATED:20230215T091049Z
UID:ATEvent-e8676dc3ebea42f0b9668e03ee274f53
LAST-MODIFIED:20230315T141246Z
SUMMARY:Norfolk County Deal event:  Great Yarmouth Library (Evening Session)
DTSTART:20230216T160000Z
DTEND:20230216T180000Z
DESCRIPTION:Come along to Great Yarmouth Library on Thursday 16th Febr
 uary to find out more about Norfolk's County Deal\, pick up paper copi
 es of the consultation and speak to us about any questions or comments
  you have about the process.\n\nGreat Yarmouth Library Tolhouse St\, G
 reat Yarmouth NR30 2SH
CLASS:PUBLIC
END:VEVENT
END:VCALENDAR
