BEGIN:VCALENDAR
PRODID:-//AT Content Types//AT Event//EN
VERSION:2.0
METHOD:PUBLISH
BEGIN:VEVENT
DTSTAMP:20260421T202945Z
CREATED:20230206T155256Z
UID:ATEvent-97b5005a8be5443992947e14f814f6db
LAST-MODIFIED:20230315T141246Z
SUMMARY:Norfolk County Deal event: Fakenham Community Centre (Evening Session)
DTSTART:20230302T160000Z
DTEND:20230302T180000Z
DESCRIPTION:Come along to Fakenham Community Centre on Thursday 2nd Ma
 rch to find out more about Norfolk's County Deal\, pick up paper copie
 s of the consultation and speak to us about any questions or comments 
 you have about the process.\n\nFakenham Community Centre\, Oak St\, Fa
 kenham NR21 9SR
CLASS:PUBLIC
END:VEVENT
END:VCALENDAR
