BEGIN:VCALENDAR
PRODID:-//AT Content Types//AT Event//EN
VERSION:2.0
METHOD:PUBLISH
BEGIN:VEVENT
DTSTAMP:20260421T215443Z
CREATED:20230208T145851Z
UID:ATEvent-26df666276aa455da7710ce1e7e05080
LAST-MODIFIED:20230315T141246Z
SUMMARY:Norfolk County Deal event: Downham Market Library (Evening Session)
DTSTART:20230308T160000Z
DTEND:20230308T180000Z
DESCRIPTION:Come along to Downham Market Library  on Wednesday 8th Mar
 ch  to find out more about Norfolk's County Deal\, pick up paper copie
 s of the consultation and speak to us about any questions or comments 
 you have about the process.\n\nDownham Market Library\, 78 Priory Rd\,
  Downham Market PE38 9JS
CLASS:PUBLIC
END:VEVENT
END:VCALENDAR
