BEGIN:VCALENDAR
PRODID:-//AT Content Types//AT Event//EN
VERSION:2.0
METHOD:PUBLISH
BEGIN:VEVENT
DTSTAMP:20260421T214925Z
CREATED:20230206T155256Z
UID:ATEvent-8f5f0fdf903249fc83f5b21f2106bd4f
LAST-MODIFIED:20230315T141246Z
SUMMARY:Norfolk County Deal event: Diss Library (Evening Session)
DTSTART:20230310T160000Z
DTEND:20230310T180000Z
DESCRIPTION:Come along to Diss Library on Friday 10th March to find ou
 t more about Norfolk's County Deal\, pick up paper copies of the consu
 ltation and speak to us about any questions or comments you have about
  the process.\n\nDiss Library\, Church St\, Diss IP22 4DD
CLASS:PUBLIC
END:VEVENT
END:VCALENDAR
