BEGIN:VCALENDAR
PRODID:-//AT Content Types//AT Event//EN
VERSION:2.0
METHOD:PUBLISH
BEGIN:VEVENT
DTSTAMP:20260421T202614Z
CREATED:20230206T155256Z
UID:ATEvent-08f079cf14c64acba0aeea7457d29590
LAST-MODIFIED:20230315T141246Z
SUMMARY:Norfolk County Deal event: Diss Library (Daytime Session)
DTSTART:20230310T100000Z
DTEND:20230310T120000Z
DESCRIPTION:Come along to Diss Library on Friday 10th March to find ou
 t more about Norfolk's County Deal\, pick up paper copies of the consu
 ltation and speak to us about any questions or comments you have about
  the process.\n\nDiss Library\, Church St\, Diss IP22 4DD
CLASS:PUBLIC
END:VEVENT
END:VCALENDAR
