BEGIN:VCALENDAR
PRODID:-//AT Content Types//AT Event//EN
VERSION:2.0
METHOD:PUBLISH
BEGIN:VEVENT
DTSTAMP:20260421T202215Z
CREATED:20230206T155256Z
UID:ATEvent-71f6daa799fd464591a122e5cd68ff1a
LAST-MODIFIED:20230315T141246Z
SUMMARY:Norfolk County Deal event: Dereham Library (Evening session)
DTSTART:20230220T160000Z
DTEND:20230220T180000Z
DESCRIPTION:Come along to Dereham Library on Monday 20th February to f
 ind out more about Norfolk's County Deal\, pick up paper copies of the
  consultation and speak to us about any questions or comments you have
  about the process.\n\nDereham Library 59 High St\, Dereham NR19 1DZ
CLASS:PUBLIC
END:VEVENT
END:VCALENDAR
