BEGIN:VCALENDAR
PRODID:-//AT Content Types//AT Event//EN
VERSION:2.0
METHOD:PUBLISH
BEGIN:VEVENT
DTSTAMP:20260421T202539Z
CREATED:20230206T155257Z
UID:ATEvent-b1eb9d1f5a7841b3bd4209fcb0f75355
LAST-MODIFIED:20230315T141246Z
SUMMARY:Norfolk County Deal event: Dereham Library (Daytime session)
DTSTART:20230220T100000Z
DTEND:20230220T120000Z
DESCRIPTION:Come along to Dereham Library on Monday 20th February to f
 ind out more about Norfolk's County Deal\, pick up paper copies of the
  consultation and speak to us about any questions or comments you have
  about the process.\n\nDereham Library 59 High St\, Dereham NR19 1DZ
CLASS:PUBLIC
END:VEVENT
END:VCALENDAR
