BEGIN:VCALENDAR
PRODID:-//AT Content Types//AT Event//EN
VERSION:2.0
METHOD:PUBLISH
BEGIN:VEVENT
DTSTAMP:20260421T202648Z
CREATED:20230206T155257Z
UID:ATEvent-721b63eecbd3418d9ee611f0811e929f
LAST-MODIFIED:20230315T141246Z
SUMMARY:Norfolk County Deal event: Cromer Library (Afternoon Session)
DTSTART:20230228T110000Z
DTEND:20230228T130000Z
DESCRIPTION:Come along to Cromer Library on Tuesday 28th February to f
 ind out more about Norfolk's County Deal\, pick up paper copies of the
  consultation and speak to us about any questions or comments you have
  about the process.\n\nCromer Library\, Prince of Wales Rd\, Cromer NR
 27 9HS
CLASS:PUBLIC
END:VEVENT
END:VCALENDAR
