BEGIN:VCALENDAR
PRODID:-//AT Content Types//AT Event//EN
VERSION:2.0
METHOD:PUBLISH
BEGIN:VEVENT
DTSTAMP:20260421T202512Z
CREATED:20230206T155256Z
UID:ATEvent-7d7cb767f0664256a5034c3fd490849c
LAST-MODIFIED:20230315T141246Z
SUMMARY:Norfolk County Deal event: Attleborough Library\, (Daytime Session)
DTSTART:20230301T100000Z
DTEND:20230301T140000Z
DESCRIPTION:Come along to Attleborough Town Hall on Wednesday 1st Marc
 h to find out more about Norfolk's County Deal\, pick up paper copies 
 of the consultation and speak to us about any questions or comments yo
 u have about the process.\n\nAttleborough Community & Enterprise Centr
 e\, Church St\, Attleborough NR17 2AH
CLASS:PUBLIC
END:VEVENT
END:VCALENDAR
