BEGIN:VCALENDAR
PRODID:-//AT Content Types//AT Event//EN
VERSION:2.0
METHOD:PUBLISH
BEGIN:VEVENT
DTSTAMP:20260421T202520Z
CREATED:20230206T155257Z
UID:ATEvent-f8deff78329b409b87b3f376b07ff71b
LAST-MODIFIED:20230315T141246Z
SUMMARY:Norfolk County Deal event: Attleborough Library\, (Evening Session)
DTSTART:20230301T160000Z
DTEND:20230301T180000Z
DESCRIPTION:Come along to Attleborough Town Hall on Wednesday 1st Marc
 h to find out more about Norfolk's County Deal\, pick up paper copies 
 of the consultation and speak to us about any questions or comments yo
 u have about the process.\n\nAttleborough Community & Enterprise Centr
 e\, Church St\, Attleborough NR17 2AH
CLASS:PUBLIC
END:VEVENT
END:VCALENDAR
