BEGIN:VCALENDAR
PRODID:-//AT Content Types//AT Event//EN
VERSION:2.0
METHOD:PUBLISH
BEGIN:VEVENT
DTSTAMP:20260421T202415Z
CREATED:20230206T155257Z
UID:ATEvent-6225c6d1fbfd4a3fb5582ac04ade1cad
LAST-MODIFIED:20230315T141246Z
SUMMARY:Norfolk County Deal event: Acle Library (Daytime Session)
DTSTART:20230309T103000Z
DTEND:20230309T123000Z
DESCRIPTION:Come along to Acle Library on Thursday 9th March to find o
 ut more about Norfolk's County Deal\, pick up paper copies of the cons
 ultation and speak to us about any questions or comments you have abou
 t the process.\n\nAcle Library Bridewell Ln\, Acle\, Norwich NR13 3RA
CLASS:PUBLIC
END:VEVENT
END:VCALENDAR
