BEGIN:VCALENDAR
PRODID:-//AT Content Types//AT Event//EN
VERSION:2.0
METHOD:PUBLISH
BEGIN:VEVENT
DTSTAMP:20260423T012254Z
CREATED:20220512T110213Z
UID:ATEvent-9a8be264f1e5435495a87205f6e879ea
LAST-MODIFIED:20220629T160613Z
SUMMARY:Sheringham Recycling Centre Event: a new recycling centre for North Norfolk
DTSTART:20220713T133000Z
DTEND:20220713T173000Z
DESCRIPTION:Community consultation event at Sheringham Community Centr
 e\, Holway Road. Come along to find out more and discuss the plans.
CLASS:PUBLIC
END:VEVENT
END:VCALENDAR
